BEGIN:VCALENDAR
VERSION:2.0
PRODID:-//Chelsea Wellness Center - ECPv6.15.20//NONSGML v1.0//EN
CALSCALE:GREGORIAN
METHOD:PUBLISH
X-WR-CALNAME:Chelsea Wellness Center
X-ORIGINAL-URL:https://www.chelseawellness.org
X-WR-CALDESC:Events for Chelsea Wellness Center
REFRESH-INTERVAL;VALUE=DURATION:PT1H
X-Robots-Tag:noindex
X-PUBLISHED-TTL:PT1H
BEGIN:VTIMEZONE
TZID:America/New_York
BEGIN:DAYLIGHT
TZOFFSETFROM:-0500
TZOFFSETTO:-0400
TZNAME:EDT
DTSTART:20210314T070000
END:DAYLIGHT
BEGIN:STANDARD
TZOFFSETFROM:-0400
TZOFFSETTO:-0500
TZNAME:EST
DTSTART:20211107T060000
END:STANDARD
BEGIN:DAYLIGHT
TZOFFSETFROM:-0500
TZOFFSETTO:-0400
TZNAME:EDT
DTSTART:20220313T070000
END:DAYLIGHT
BEGIN:STANDARD
TZOFFSETFROM:-0400
TZOFFSETTO:-0500
TZNAME:EST
DTSTART:20221106T060000
END:STANDARD
BEGIN:DAYLIGHT
TZOFFSETFROM:-0500
TZOFFSETTO:-0400
TZNAME:EDT
DTSTART:20230312T070000
END:DAYLIGHT
BEGIN:STANDARD
TZOFFSETFROM:-0400
TZOFFSETTO:-0500
TZNAME:EST
DTSTART:20231105T060000
END:STANDARD
END:VTIMEZONE
BEGIN:VEVENT
DTSTART;TZID=America/New_York:20221231T104500
DTEND;TZID=America/New_York:20221231T114500
DTSTAMP:20260425T084745
CREATED:20221215T162852Z
LAST-MODIFIED:20241221T183038Z
UID:55104-1672483500-1672487100@www.chelseawellness.org
SUMMARY:Aqua Power
DESCRIPTION:This high intensity workout will cover both cardio and strength building.  Increase your core strength\, endurance and power with the help of various techniques\, buoyant dumbbells and noodles. \n  \nInstructor: Rhonda \nDay: Saturday
URL:https://www.chelseawellness.org/event/aqua-power-2/2022-12-31/
LOCATION:LAP Pool
CATEGORIES:Aquatics
END:VEVENT
END:VCALENDAR